BEGIN:VCALENDAR
VERSION:2.0
PRODID:-//oslabor - ECPv6.15.20//NONSGML v1.0//EN
CALSCALE:GREGORIAN
METHOD:PUBLISH
X-WR-CALNAME:oslabor
X-ORIGINAL-URL:https://oslabor.pl
X-WR-CALDESC:Wydarzenia dla oslabor
REFRESH-INTERVAL;VALUE=DURATION:PT1H
X-Robots-Tag:noindex
X-PUBLISHED-TTL:PT1H
BEGIN:VTIMEZONE
TZID:Europe/Warsaw
BEGIN:DAYLIGHT
TZOFFSETFROM:+0100
TZOFFSETTO:+0200
TZNAME:CEST
DTSTART:20250330T010000
END:DAYLIGHT
BEGIN:STANDARD
TZOFFSETFROM:+0200
TZOFFSETTO:+0100
TZNAME:CET
DTSTART:20251026T010000
END:STANDARD
BEGIN:DAYLIGHT
TZOFFSETFROM:+0100
TZOFFSETTO:+0200
TZNAME:CEST
DTSTART:20260329T010000
END:DAYLIGHT
BEGIN:STANDARD
TZOFFSETFROM:+0200
TZOFFSETTO:+0100
TZNAME:CET
DTSTART:20261025T010000
END:STANDARD
BEGIN:DAYLIGHT
TZOFFSETFROM:+0100
TZOFFSETTO:+0200
TZNAME:CEST
DTSTART:20270328T010000
END:DAYLIGHT
BEGIN:STANDARD
TZOFFSETFROM:+0200
TZOFFSETTO:+0100
TZNAME:CET
DTSTART:20271031T010000
END:STANDARD
END:VTIMEZONE
BEGIN:VEVENT
DTSTART;VALUE=DATE:20260505
DTEND;VALUE=DATE:20260506
DTSTAMP:20260420T140524
CREATED:20260126T121411Z
LAST-MODIFIED:20260126T121411Z
UID:16819-1777939200-1778025599@oslabor.pl
SUMMARY:UDT rozpoczęcie kursów
DESCRIPTION:
URL:https://oslabor.pl/wydarzenie/udt-rozpoczecie-kursow-11/
LOCATION:Ośrodek Szkolenia Kraków\, Albatrosów 12E\, Kraków\, Małopolska\, 30-716\, Poland
ORGANIZER;CN="O%C5%9Brodek Szkoleniowy Labor":MAILTO:szkolenia.labor@o2.pl
END:VEVENT
BEGIN:VEVENT
DTSTART;VALUE=DATE:20260511
DTEND;VALUE=DATE:20260512
DTSTAMP:20260420T140524
CREATED:20260126T121617Z
LAST-MODIFIED:20260126T121617Z
UID:16831-1778457600-1778543999@oslabor.pl
SUMMARY:Łukasiewicz-WIT rozpoczęcie nowych kursów
DESCRIPTION:
URL:https://oslabor.pl/wydarzenie/lukasiewicz-wit-rozpoczecie-nowych-kursow-10/
LOCATION:Ośrodek Szkolenia Kraków\, Albatrosów 12E\, Kraków\, Małopolska\, 30-716\, Poland
ORGANIZER;CN="O%C5%9Brodek Szkoleniowy Labor":MAILTO:szkolenia.labor@o2.pl
END:VEVENT
BEGIN:VEVENT
DTSTART;VALUE=DATE:20260512
DTEND;VALUE=DATE:20260513
DTSTAMP:20260420T140524
CREATED:20260126T121432Z
LAST-MODIFIED:20260126T121432Z
UID:16821-1778544000-1778630399@oslabor.pl
SUMMARY:UDT rozpoczęcie kursów
DESCRIPTION:
URL:https://oslabor.pl/wydarzenie/udt-rozpoczecie-kursow-12/
LOCATION:Ośrodek Szkolenia Kraków\, Albatrosów 12E\, Kraków\, Małopolska\, 30-716\, Poland
ORGANIZER;CN="O%C5%9Brodek Szkoleniowy Labor":MAILTO:szkolenia.labor@o2.pl
END:VEVENT
BEGIN:VEVENT
DTSTART;VALUE=DATE:20260608
DTEND;VALUE=DATE:20260609
DTSTAMP:20260420T140524
CREATED:20260126T121634Z
LAST-MODIFIED:20260126T121634Z
UID:16833-1780876800-1780963199@oslabor.pl
SUMMARY:Łukasiewicz-WIT rozpoczęcie nowych kursów
DESCRIPTION:
URL:https://oslabor.pl/wydarzenie/lukasiewicz-wit-rozpoczecie-nowych-kursow-11/
LOCATION:Ośrodek Szkolenia Kraków\, Albatrosów 12E\, Kraków\, Małopolska\, 30-716\, Poland
ORGANIZER;CN="O%C5%9Brodek Szkoleniowy Labor":MAILTO:szkolenia.labor@o2.pl
END:VEVENT
BEGIN:VEVENT
DTSTART;VALUE=DATE:20260609
DTEND;VALUE=DATE:20260610
DTSTAMP:20260420T140524
CREATED:20260126T121457Z
LAST-MODIFIED:20260126T121457Z
UID:16823-1780963200-1781049599@oslabor.pl
SUMMARY:UDT rozpoczęcie kursów
DESCRIPTION:
URL:https://oslabor.pl/wydarzenie/udt-rozpoczecie-kursow-13/
LOCATION:Ośrodek Szkolenia Kraków\, Albatrosów 12E\, Kraków\, Małopolska\, 30-716\, Poland
ORGANIZER;CN="O%C5%9Brodek Szkoleniowy Labor":MAILTO:szkolenia.labor@o2.pl
END:VEVENT
END:VCALENDAR